BEGIN:VCALENDAR
VERSION:2.0
PRODID:-//Orcas Center - ECPv6.15.18//NONSGML v1.0//EN
CALSCALE:GREGORIAN
METHOD:PUBLISH
X-WR-CALNAME:Orcas Center
X-ORIGINAL-URL:https://orcascenter.org
X-WR-CALDESC:Events for Orcas Center
REFRESH-INTERVAL;VALUE=DURATION:PT1H
X-Robots-Tag:noindex
X-PUBLISHED-TTL:PT1H
BEGIN:VTIMEZONE
TZID:America/Los_Angeles
BEGIN:DAYLIGHT
TZOFFSETFROM:-0800
TZOFFSETTO:-0700
TZNAME:PDT
DTSTART:20250309T100000
END:DAYLIGHT
BEGIN:STANDARD
TZOFFSETFROM:-0700
TZOFFSETTO:-0800
TZNAME:PST
DTSTART:20251102T090000
END:STANDARD
BEGIN:DAYLIGHT
TZOFFSETFROM:-0800
TZOFFSETTO:-0700
TZNAME:PDT
DTSTART:20260308T100000
END:DAYLIGHT
BEGIN:STANDARD
TZOFFSETFROM:-0700
TZOFFSETTO:-0800
TZNAME:PST
DTSTART:20261101T090000
END:STANDARD
BEGIN:DAYLIGHT
TZOFFSETFROM:-0800
TZOFFSETTO:-0700
TZNAME:PDT
DTSTART:20270314T100000
END:DAYLIGHT
BEGIN:STANDARD
TZOFFSETFROM:-0700
TZOFFSETTO:-0800
TZNAME:PST
DTSTART:20271107T090000
END:STANDARD
END:VTIMEZONE
BEGIN:VEVENT
DTSTART;TZID=America/Los_Angeles:20260227T190000
DTEND;TZID=America/Los_Angeles:20260314T190000
DTSTAMP:20260416T231755
CREATED:20260106T144759Z
LAST-MODIFIED:20260303T214906Z
UID:17243-1772218800-1773514800@orcascenter.org
SUMMARY:Grease
DESCRIPTION:Orcas Center Presents on Center Stage\nGrease\nDates: Feb. 27-28\, March 1\, 6-8 and 13-14\n(March 1 & 8 are 1:00pm matinees) \nTiered ticket prices: $70\, $40\, or $25\, and $10 (student and senior tickets).\n \nSign-up to Usher | ‘Soda Shop Sock Hop’ Fundraiser Tickets (March 7 & 14) \n\nGrease\nIt’s not just the word\, it’s happening! That’s right\, “Grease” is rolling into Orcas Center this spring. An all-local cast is revving up to present this classic musical on the main stage\, directed by Liz Doane and choreographed by the Orcas Dance Collective with musical direction by Pedro De La Victoria. Shows are Feb. 27-28\, March 1\, 6-8 and 13-14\, starting at 7 p.m. On March 1 and 8\, matinees are at 1 p.m. \n“Grease” is a 1971 musical about 1950s American high school life\, focusing on the romance between rebel Danny Zuko and the virtuous Sandy Dumbrowski at Rydell High. Known for its infectious rock-and-roll score\, including hits like “Summer Nights” and “Hopelessly Devoted to You\,” the show captures the greaser subculture and explores themes of friendship\, identity and rebellion. “Grease” is best known for its 1978 film adaptation starring John Travolta and Olivia Newton-John. \nThe show has been performed around the world for decades\, and this is the first time Orcas Center has staged the production. Doane is offering a unique\, gender-fluid approach to this timeless teen drama. Due to subject matter\, the suggested viewing age is 13 and up.
URL:https://orcascenter.org/event/grease/
LOCATION:Orcas Center – Center Stage\, 917 Mt. Baker Road\, Eastsound\, WA\, 98245\, United States
CATEGORIES:Theatre,On-Stage,Coming Soon
ATTACH;FMTTYPE=image/png:https://orcascenter.org/wp-content/uploads/2026/01/grease-event169.png
END:VEVENT
BEGIN:VEVENT
DTSTART;TZID=America/Los_Angeles:20260307T170000
DTEND;TZID=America/Los_Angeles:20260314T170000
DTSTAMP:20260416T231755
CREATED:20260129T232317Z
LAST-MODIFIED:20260129T233718Z
UID:17477-1772902800-1773507600@orcascenter.org
SUMMARY:Soda Shop Sock Hop
DESCRIPTION:Orcas Center Presents in the Madrona Room:\nWinter Fundraiser: Soda Shop Sock Hop\nDates: March 7 and 14\nBefore the last two Saturday performances of Grease\nEarly Bird Pricing: $49 \nGET GREASE SHOW TICKETS \n\nSoda Shop Sock Hop\nBefore the last two Saturday performances of Grease — March 7 and 14 — join Orcas Center for a “Soda Shop Sock Hop” dinner fundraiser. \nFor $49\, you will enjoy a meal and beverages by the Lower Tavern\, ice cream floats and sodas from Clever Cow and a chance to win one of ten raffled prizes. Additional raffle tickets are available online or at the event to increase your chances of winning! Learn the hand jive and dance with roaming performers for extra street cred. Costumes and dressing up are encouraged but not required. \nDoors open at 5 p.m.\, dinner is served at 5:30 p.m. You must be present to win. Raffle winners will be chosen only from those present at the event. To purchase tickets as well as extra raffle tickets\, visit www.orcascenter.org.\nTickets to the Grease show\, which starts at 7 p.m.\, are sold separately.
URL:https://orcascenter.org/event/soda-shop-sock-hop/
LOCATION:Orcas Center – Madrona Room\, 917 Mount Baker Road\, Eastsound\, WA\, 98245\, United States
CATEGORIES:Fundraiser,Coming Soon
ATTACH;FMTTYPE=image/png:https://orcascenter.org/wp-content/uploads/2026/01/sockhop.png
END:VEVENT
END:VCALENDAR