BEGIN:VCALENDAR
VERSION:2.0
PRODID:-//Orcas Center - ECPv6.15.18//NONSGML v1.0//EN
CALSCALE:GREGORIAN
METHOD:PUBLISH
X-ORIGINAL-URL:https://orcascenter.org
X-WR-CALDESC:Events for Orcas Center
REFRESH-INTERVAL;VALUE=DURATION:PT1H
X-Robots-Tag:noindex
X-PUBLISHED-TTL:PT1H
BEGIN:VTIMEZONE
TZID:America/Los_Angeles
BEGIN:DAYLIGHT
TZOFFSETFROM:-0800
TZOFFSETTO:-0700
TZNAME:PDT
DTSTART:20250309T100000
END:DAYLIGHT
BEGIN:STANDARD
TZOFFSETFROM:-0700
TZOFFSETTO:-0800
TZNAME:PST
DTSTART:20251102T090000
END:STANDARD
BEGIN:DAYLIGHT
TZOFFSETFROM:-0800
TZOFFSETTO:-0700
TZNAME:PDT
DTSTART:20260308T100000
END:DAYLIGHT
BEGIN:STANDARD
TZOFFSETFROM:-0700
TZOFFSETTO:-0800
TZNAME:PST
DTSTART:20261101T090000
END:STANDARD
BEGIN:DAYLIGHT
TZOFFSETFROM:-0800
TZOFFSETTO:-0700
TZNAME:PDT
DTSTART:20270314T100000
END:DAYLIGHT
BEGIN:STANDARD
TZOFFSETFROM:-0700
TZOFFSETTO:-0800
TZNAME:PST
DTSTART:20271107T090000
END:STANDARD
END:VTIMEZONE
BEGIN:VEVENT
DTSTART;TZID=America/Los_Angeles:20260424T173000
DTEND;TZID=America/Los_Angeles:20260424T173000
DTSTAMP:20260414T045013
CREATED:20260104T161141Z
LAST-MODIFIED:20260404T210357Z
UID:17183-1777051800-1777051800@orcascenter.org
SUMMARY:Art Opening: Student Art Exhibit
DESCRIPTION:Visual Arts Committee Presents:\nA*OK\, Art for Orcas Kids / High School Students\nArt Opening: Friday\, April 24th; 5:30pm – 7pm\nOn Display: April 24th – May 26th \n\n \nAll are invited to attend the Art Opening on Friday\, April 24th from 5:30 to 7 p.m.\, featuring live entertainment and complimentary refreshments. Artists are urged to attend and contribute hors d’oeuvres. \nTo learn more about exhibiting your art\, commission structures\, and upcoming shows\, please visit the VAC page.
URL:https://orcascenter.org/event/art-opening-aok-art-for-orcas-kids-high-school-students/
CATEGORIES:Art Exhibits,Coming Soon
ATTACH;FMTTYPE=image/png:https://orcascenter.org/wp-content/uploads/2026/01/VAC2026-4.png
END:VEVENT
BEGIN:VEVENT
DTSTART;TZID=America/Los_Angeles:20260529T173000
DTEND;TZID=America/Los_Angeles:20260529T173000
DTSTAMP:20260414T045013
CREATED:20260104T161517Z
LAST-MODIFIED:20260401T173004Z
UID:17186-1780075800-1780075800@orcascenter.org
SUMMARY:Art Opening: Victoria Smith & Capturing the Moment
DESCRIPTION:Visual Arts Committee Presents:\nFeatured Artist: Victoria Smith\nCommunity Show: Capturing the Moment\nArt Opening: Friday\, May 29th; 5:30pm – 7pm\nOn Display: May 29th – June 23rd \nAll are invited to attend the Art Opening on Friday\, May 29th from 5:30 to 7 p.m.\, featuring live entertainment and complimentary refreshments. Artists are urged to attend and contribute hors d’oeuvres. \nTo learn more about exhibiting your art\, commission structures\, and upcoming shows\, please visit the VAC page.
URL:https://orcascenter.org/event/art-opening-victoria-smith-capturing-the-moment/
CATEGORIES:Art Exhibits,Coming Soon
ATTACH;FMTTYPE=image/jpeg:https://orcascenter.org/wp-content/uploads/2026/01/Victoria-Smith-_commun.-placeholder.jpeg
END:VEVENT
BEGIN:VEVENT
DTSTART;TZID=America/Los_Angeles:20260626T173000
DTEND;TZID=America/Los_Angeles:20260626T173000
DTSTAMP:20260414T045013
CREATED:20260405T140834Z
LAST-MODIFIED:20260405T140834Z
UID:17762-1782495000-1782495000@orcascenter.org
SUMMARY:Art Opening: Potters of Orcas Group
DESCRIPTION:Visual Arts Committee Presents:\nFeatured Artists: Potters of Orcas Group\nArt Opening: Friday\, June 26th; 5:30pm – 7pm\nOn Display: June 26th – July 28th \nAll are invited to attend the Art Opening on Friday\, June 26th from 5:30 to 7 p.m.\, featuring live entertainment and complimentary refreshments. Artists are urged to attend and contribute hors d’oeuvres. \nTo learn more about exhibiting your art\, commission structures\, and upcoming shows\, please visit the VAC page.
URL:https://orcascenter.org/event/art-opening-potters-of-orcas-group/
LOCATION:Orcas Center\, 917 Mt. Baker Road\, Eastsound\, WA\, 98245\, United States
CATEGORIES:Art Exhibits,Coming Soon
ATTACH;FMTTYPE=image/png:https://orcascenter.org/wp-content/uploads/2026/04/VACShow24-Event169-nodate.png
END:VEVENT
BEGIN:VEVENT
DTSTART;TZID=America/Los_Angeles:20260731T173000
DTEND;TZID=America/Los_Angeles:20260731T173000
DTSTAMP:20260414T045013
CREATED:20260405T141048Z
LAST-MODIFIED:20260405T141048Z
UID:17765-1785519000-1785519000@orcascenter.org
SUMMARY:Art Opening: Orcas Artist Studio Tour
DESCRIPTION:Visual Arts Committee Presents:\nFeatured Artists: Orcas Artist Studio Tour\nArt Opening: Friday\, July 31st; 5:30pm – 7pm\nOn Display: July 31st – August 25th \nAll are invited to attend the Art Opening on Friday\, July 31st from 5:30 to 7 p.m.\, featuring live entertainment and complimentary refreshments. Artists are urged to attend and contribute hors d’oeuvres. \nTo learn more about exhibiting your art\, commission structures\, and upcoming shows\, please visit the VAC page.
URL:https://orcascenter.org/event/art-opening-orcas-artist-studio-tour/
CATEGORIES:Art Exhibits,Coming Soon
ATTACH;FMTTYPE=image/png:https://orcascenter.org/wp-content/uploads/2026/04/VACShow24-Event169-nodate.png
END:VEVENT
BEGIN:VEVENT
DTSTART;TZID=America/Los_Angeles:20260828T173000
DTEND;TZID=America/Los_Angeles:20260828T173000
DTSTAMP:20260414T045013
CREATED:20260405T141250Z
LAST-MODIFIED:20260405T142226Z
UID:17767-1787938200-1787938200@orcascenter.org
SUMMARY:Art Opening: Peter Carlson
DESCRIPTION:Visual Arts Committee Presents:\nFeatured Artist: Peter Carlson\n\nCommunity Show: Light & Shadow\n\n\nArt Opening: Friday\, August 28th; 5:30pm – 7pm\nOn Display: August 28th – September 22nd \nAll are invited to attend the Art Opening on Friday\, August 28th from 5:30 to 7 p.m.\, featuring live entertainment and complimentary refreshments. Artists are urged to attend and contribute hors d’oeuvres. \nTo learn more about exhibiting your art\, commission structures\, and upcoming shows\, please visit the VAC page.
URL:https://orcascenter.org/event/art-opening-peter-carlson/
CATEGORIES:Art Exhibits,Coming Soon
ATTACH;FMTTYPE=image/png:https://orcascenter.org/wp-content/uploads/2026/04/VACShow24-Event169-nodate.png
END:VEVENT
BEGIN:VEVENT
DTSTART;TZID=America/Los_Angeles:20260925T173000
DTEND;TZID=America/Los_Angeles:20260925T173000
DTSTAMP:20260414T045013
CREATED:20260405T141532Z
LAST-MODIFIED:20260405T142200Z
UID:17769-1790357400-1790357400@orcascenter.org
SUMMARY:Art Opening: Marcia Spees
DESCRIPTION:Visual Arts Committee Presents:\nFeatured Artist: Marcia Spees\n\nCommunity Show: Of The Water\n\n\nArt Opening: Friday\, September 25th; 5:30pm – 7pm\nOn Display: September 25th – October 21st \nAll are invited to attend the Art Opening on Friday\, September 25th from 5:30 to 7 p.m.\, featuring live entertainment and complimentary refreshments. Artists are urged to attend and contribute hors d’oeuvres. \nTo learn more about exhibiting your art\, commission structures\, and upcoming shows\, please visit the VAC page.
URL:https://orcascenter.org/event/art-opening-marcia-spees/
CATEGORIES:Art Exhibits,Coming Soon
ATTACH;FMTTYPE=image/png:https://orcascenter.org/wp-content/uploads/2026/04/VACShow24-Event169-nodate.png
END:VEVENT
BEGIN:VEVENT
DTSTART;TZID=America/Los_Angeles:20261023T173000
DTEND;TZID=America/Los_Angeles:20261023T173000
DTSTAMP:20260414T045013
CREATED:20260405T141912Z
LAST-MODIFIED:20260405T141912Z
UID:17774-1792776600-1792776600@orcascenter.org
SUMMARY:Art Opening: Carla Stanley Class
DESCRIPTION:Visual Arts Committee Presents:\nFeatured Artists: Carla Stanley Class\n\nCommunity Show: 6 x 6 x $60\n\n\nArt Opening: Friday\, October 23rd; 5:30pm – 7pm\nOn Display: October 23rd – November 18th \nAll are invited to attend the Art Opening on Friday\, October 23rd from 5:30 to 7 p.m.\, featuring live entertainment and complimentary refreshments. Artists are urged to attend and contribute hors d’oeuvres. \nTo learn more about exhibiting your art\, commission structures\, and upcoming shows\, please visit the VAC page.
URL:https://orcascenter.org/event/art-opening-carla-stanley-class/
CATEGORIES:Art Exhibits,Coming Soon
ATTACH;FMTTYPE=image/png:https://orcascenter.org/wp-content/uploads/2026/04/VACShow24-Event169-nodate.png
END:VEVENT
BEGIN:VEVENT
DTSTART;TZID=America/Los_Angeles:20261120T173000
DTEND;TZID=America/Los_Angeles:20261120T173000
DTSTAMP:20260414T045013
CREATED:20260405T142117Z
LAST-MODIFIED:20260405T142117Z
UID:17776-1795195800-1795195800@orcascenter.org
SUMMARY:Art Opening: Debra Babcock
DESCRIPTION:Visual Arts Committee Presents:\nFeatured Artist: Debra Babcock\n\nCommunity Show: Mixed Media\n\n\nArt Opening: Friday\, November 20th; 5:30pm – 7pm\nOn Display: November 20th – December 22nd \nAll are invited to attend the Art Opening on Friday\, October 23rd from 5:30 to 7 p.m.\, featuring live entertainment and complimentary refreshments. Artists are urged to attend and contribute hors d’oeuvres. \nTo learn more about exhibiting your art\, commission structures\, and upcoming shows\, please visit the VAC page.
URL:https://orcascenter.org/event/art-opening-debra-babcock/
CATEGORIES:Art Exhibits,Coming Soon
ATTACH;FMTTYPE=image/png:https://orcascenter.org/wp-content/uploads/2026/04/VACShow24-Event169-nodate.png
END:VEVENT
END:VCALENDAR